BEGIN:VCALENDAR
VERSION:2.0
PRODID:-//West Cornwall Beekeepers’ Association - ECPv6.15.20//NONSGML v1.0//EN
CALSCALE:GREGORIAN
METHOD:PUBLISH
X-WR-CALNAME:West Cornwall Beekeepers’ Association
X-ORIGINAL-URL:https://wcbka.org.uk
X-WR-CALDESC:Events for West Cornwall Beekeepers’ Association
REFRESH-INTERVAL;VALUE=DURATION:PT1H
X-Robots-Tag:noindex
X-PUBLISHED-TTL:PT1H
BEGIN:VTIMEZONE
TZID:Europe/London
BEGIN:DAYLIGHT
TZOFFSETFROM:+0000
TZOFFSETTO:+0100
TZNAME:BST
DTSTART:20220327T010000
END:DAYLIGHT
BEGIN:STANDARD
TZOFFSETFROM:+0100
TZOFFSETTO:+0000
TZNAME:GMT
DTSTART:20221030T010000
END:STANDARD
BEGIN:DAYLIGHT
TZOFFSETFROM:+0000
TZOFFSETTO:+0100
TZNAME:BST
DTSTART:20230326T010000
END:DAYLIGHT
BEGIN:STANDARD
TZOFFSETFROM:+0100
TZOFFSETTO:+0000
TZNAME:GMT
DTSTART:20231029T010000
END:STANDARD
BEGIN:DAYLIGHT
TZOFFSETFROM:+0000
TZOFFSETTO:+0100
TZNAME:BST
DTSTART:20240331T010000
END:DAYLIGHT
BEGIN:STANDARD
TZOFFSETFROM:+0100
TZOFFSETTO:+0000
TZNAME:GMT
DTSTART:20241027T010000
END:STANDARD
BEGIN:DAYLIGHT
TZOFFSETFROM:+0000
TZOFFSETTO:+0100
TZNAME:BST
DTSTART:20250330T010000
END:DAYLIGHT
BEGIN:STANDARD
TZOFFSETFROM:+0100
TZOFFSETTO:+0000
TZNAME:GMT
DTSTART:20251026T010000
END:STANDARD
BEGIN:DAYLIGHT
TZOFFSETFROM:+0000
TZOFFSETTO:+0100
TZNAME:BST
DTSTART:20260329T010000
END:DAYLIGHT
BEGIN:STANDARD
TZOFFSETFROM:+0100
TZOFFSETTO:+0000
TZNAME:GMT
DTSTART:20261025T010000
END:STANDARD
END:VTIMEZONE
BEGIN:VEVENT
DTSTART;TZID=Europe/London:20250301T100000
DTEND;TZID=Europe/London:20250301T160000
DTSTAMP:20260423T232912
CREATED:20241120T142909Z
LAST-MODIFIED:20241120T142909Z
UID:1580-1740823200-1740844800@wcbka.org.uk
SUMMARY:Microscopy Course ~
DESCRIPTION:
URL:https://wcbka.org.uk/event/microscopy-course-4/
LOCATION:Marazion Community Centre\, Gwallon Lane\, Marazion\, Cornwall\, TR17 0HW\, United Kingdom
CATEGORIES:Other events
END:VEVENT
BEGIN:VEVENT
DTSTART;TZID=Europe/London:20250224T080000
DTEND;TZID=Europe/London:20250224T170000
DTSTAMP:20260423T232912
CREATED:20241120T142734Z
LAST-MODIFIED:20241120T142734Z
UID:1578-1740384000-1740416400@wcbka.org.uk
SUMMARY:BBKA Study Group ~
DESCRIPTION:
URL:https://wcbka.org.uk/event/bbka-study-group-6/
LOCATION:Marazion Community Centre\, Gwallon Lane\, Marazion\, Cornwall\, TR17 0HW\, United Kingdom
CATEGORIES:BBKA Study Group
END:VEVENT
BEGIN:VEVENT
DTSTART;TZID=Europe/London:20250217T193000
DTEND;TZID=Europe/London:20250217T210000
DTSTAMP:20260423T232912
CREATED:20241120T142632Z
LAST-MODIFIED:20241120T142632Z
UID:1576-1739820600-1739826000@wcbka.org.uk
SUMMARY:Better Beekeeping - 'Sting' - Anne McQuade
DESCRIPTION:
URL:https://wcbka.org.uk/event/better-beekeeping-sting-anne-mcquade/
LOCATION:Marazion Community Centre\, Gwallon Lane\, Marazion\, Cornwall\, TR17 0HW\, United Kingdom
CATEGORIES:Better Beekeeping
END:VEVENT
BEGIN:VEVENT
DTSTART;TZID=Europe/London:20250216T110000
DTEND;TZID=Europe/London:20250216T150000
DTSTAMP:20260423T232912
CREATED:20250116T161115Z
LAST-MODIFIED:20250116T161258Z
UID:1619-1739703600-1739718000@wcbka.org.uk
SUMMARY:St Piran's Honey Festival ~
DESCRIPTION:Our annual Honey show takes place this year at St Piran’s Hall in Goldsithney on Sunday 16th February. As usual we will be open to the public to chat about bees\, have some tea and cakes\, play the tombola\, ask questions about Asian Hornets\, buy honey\, join in the kids activities and admire the entries in the honey show competition. In the competition this year we have a larger range of categories – so along with wax\, honey\, photography and cookery entries you can also venture into crafts\, foliage arrangements and microscopy slides – we would love to see your entries!
URL:https://wcbka.org.uk/event/st-pirans-honey-festival-3/
LOCATION:Village Hall\, Goldsithney\, Goldsithney\, Penzance\, Cornwall\, TR20 9LF\, United Kingdom
CATEGORIES:Other events
ATTACH;FMTTYPE=image/png:https://wcbka.org.uk/wcbka/wp-content/uploads/2025/01/hone-show-25.png
END:VEVENT
BEGIN:VEVENT
DTSTART;TZID=Europe/London:20250210T190000
DTEND;TZID=Europe/London:20250210T203000
DTSTAMP:20260423T232912
CREATED:20241120T142503Z
LAST-MODIFIED:20241120T144803Z
UID:1574-1739214000-1739219400@wcbka.org.uk
SUMMARY:BBKA Study Group ~
DESCRIPTION:
URL:https://wcbka.org.uk/event/bbka-study-group-5/
LOCATION:Marazion Community Centre\, Gwallon Lane\, Marazion\, Cornwall\, TR17 0HW\, United Kingdom
CATEGORIES:BBKA Study Group
END:VEVENT
BEGIN:VEVENT
DTSTART;TZID=Europe/London:20250203T193000
DTEND;TZID=Europe/London:20250203T210000
DTSTAMP:20260423T232912
CREATED:20241118T160633Z
LAST-MODIFIED:20241118T160633Z
UID:1568-1738611000-1738616400@wcbka.org.uk
SUMMARY:Winter Meeting ‘How wild bees and managed bees share the landscape’ Nynke Bloemer
DESCRIPTION:
URL:https://wcbka.org.uk/event/winter-meeting-how-wild-bees-and-managed-bees-share-the-landscape-nynke-bloemer/
LOCATION:Marazion Community Centre\, Gwallon Lane\, Marazion\, Cornwall\, TR17 0HW\, United Kingdom
CATEGORIES:Better Beekeeping
END:VEVENT
BEGIN:VEVENT
DTSTART;TZID=Europe/London:20250201T100000
DTEND;TZID=Europe/London:20250201T160000
DTSTAMP:20260423T232912
CREATED:20241118T160451Z
LAST-MODIFIED:20241118T160451Z
UID:1566-1738404000-1738425600@wcbka.org.uk
SUMMARY:Microscopy Course ~
DESCRIPTION:
URL:https://wcbka.org.uk/event/microscopy-course-3/
LOCATION:Marazion Community Centre\, Gwallon Lane\, Marazion\, Cornwall\, TR17 0HW\, United Kingdom
CATEGORIES:Other events
END:VEVENT
BEGIN:VEVENT
DTSTART;TZID=Europe/London:20250127T190000
DTEND;TZID=Europe/London:20250127T203000
DTSTAMP:20260423T232912
CREATED:20241118T160313Z
LAST-MODIFIED:20241118T161026Z
UID:1564-1738004400-1738009800@wcbka.org.uk
SUMMARY:BBKA Study Group ~
DESCRIPTION:
URL:https://wcbka.org.uk/event/bbka-study-group-4/
LOCATION:Marazion Community Centre\, Gwallon Lane\, Marazion\, Cornwall\, TR17 0HW\, United Kingdom
CATEGORIES:BBKA Study Group
END:VEVENT
BEGIN:VEVENT
DTSTART;TZID=Europe/London:20250120T193000
DTEND;TZID=Europe/London:20250120T210000
DTSTAMP:20260423T232912
CREATED:20241118T160141Z
LAST-MODIFIED:20250115T111128Z
UID:1562-1737401400-1737406800@wcbka.org.uk
SUMMARY:Better Beekeeping - Hints and Tips for the Honey Shows ~
DESCRIPTION:We are really lucky to have Tamsin and Carrie\, themselves experts in producing beautiful hive products\, to come along and share their expertise. And with them Mark Stevens\, who will talk about his experience as a relatively new beekeeper winning a prize for his wax at the National Honey show last autumn . \nSo please come along to find out the Art of the Possible\, be inspired\, and give it a go. \nPlenty of good bee chat … and of course a cuppa and cake …
URL:https://wcbka.org.uk/event/better-beekeeping-drones-barbara-barnes/
LOCATION:Marazion Community Centre\, Gwallon Lane\, Marazion\, Cornwall\, TR17 0HW\, United Kingdom
CATEGORIES:Better Beekeeping
END:VEVENT
BEGIN:VEVENT
DTSTART;TZID=Europe/London:20250106T193000
DTEND;TZID=Europe/London:20250106T210000
DTSTAMP:20260423T232912
CREATED:20241118T155849Z
LAST-MODIFIED:20241118T155849Z
UID:1558-1736191800-1736197200@wcbka.org.uk
SUMMARY:Winter Meeting ‘Urban Green Shoots’ Melissa Ralph
DESCRIPTION:
URL:https://wcbka.org.uk/event/winter-meeting-urban-green-shoots-melissa-ralph/
LOCATION:Marazion Community Centre\, Gwallon Lane\, Marazion\, Cornwall\, TR17 0HW\, United Kingdom
CATEGORIES:Winter meeting
END:VEVENT
BEGIN:VEVENT
DTSTART;TZID=Europe/London:20250104T100000
DTEND;TZID=Europe/London:20250104T160000
DTSTAMP:20260423T232912
CREATED:20241118T155744Z
LAST-MODIFIED:20241118T161145Z
UID:1556-1735984800-1736006400@wcbka.org.uk
SUMMARY:Microscopy Course ~
DESCRIPTION:
URL:https://wcbka.org.uk/event/microscopy-course-2/
LOCATION:Marazion Community Centre\, Gwallon Lane\, Marazion\, Cornwall\, TR17 0HW\, United Kingdom
CATEGORIES:Other events
END:VEVENT
BEGIN:VEVENT
DTSTART;TZID=Europe/London:20241216T193000
DTEND;TZID=Europe/London:20241216T210000
DTSTAMP:20260423T232912
CREATED:20241118T155548Z
LAST-MODIFIED:20241118T155603Z
UID:1553-1734377400-1734382800@wcbka.org.uk
SUMMARY:Better Beekeeping ‘Food and Forage’ Jenny Lewis ~
DESCRIPTION:
URL:https://wcbka.org.uk/event/better-beekeeping-food-and-forage-jenny-lewis/
LOCATION:Marazion Community Centre\, Gwallon Lane\, Marazion\, Cornwall\, TR17 0HW\, United Kingdom
CATEGORIES:Better Beekeeping
END:VEVENT
BEGIN:VEVENT
DTSTART;TZID=Europe/London:20241209T190000
DTEND;TZID=Europe/London:20241209T203000
DTSTAMP:20260423T232912
CREATED:20241118T155356Z
LAST-MODIFIED:20241118T155356Z
UID:1551-1733770800-1733776200@wcbka.org.uk
SUMMARY:BBKA Study Group ~
DESCRIPTION:
URL:https://wcbka.org.uk/event/bbka-study-group-2/
LOCATION:Marazion Community Centre\, Gwallon Lane\, Marazion\, Cornwall\, TR17 0HW\, United Kingdom
CATEGORIES:BBKA Study Group
END:VEVENT
BEGIN:VEVENT
DTSTART;TZID=Europe/London:20241207T100000
DTEND;TZID=Europe/London:20241207T160000
DTSTAMP:20260423T232912
CREATED:20241118T155214Z
LAST-MODIFIED:20241118T155214Z
UID:1549-1733565600-1733587200@wcbka.org.uk
SUMMARY:Microscopy Course ~
DESCRIPTION:
URL:https://wcbka.org.uk/event/microscopy-course/
LOCATION:Marazion Community Centre\, Gwallon Lane\, Marazion\, Cornwall\, TR17 0HW\, United Kingdom
CATEGORIES:Other events
END:VEVENT
BEGIN:VEVENT
DTSTART;TZID=Europe/London:20241202T130000
DTEND;TZID=Europe/London:20241202T150000
DTSTAMP:20260423T232912
CREATED:20241118T154919Z
LAST-MODIFIED:20241118T154919Z
UID:1546-1733144400-1733151600@wcbka.org.uk
SUMMARY:Winter Meeting Christmas Lunch ~
DESCRIPTION:
URL:https://wcbka.org.uk/event/winter-meeting-christmas-lunch/
LOCATION:The Cutty Sark\, The Square\,\, Marazion\, Cornwall\, TR17 0AP\, United Kingdom
CATEGORIES:Winter meeting
END:VEVENT
BEGIN:VEVENT
DTSTART;TZID=Europe/London:20241125T190000
DTEND;TZID=Europe/London:20241125T203000
DTSTAMP:20260423T232912
CREATED:20241118T154323Z
LAST-MODIFIED:20241118T154434Z
UID:1543-1732561200-1732566600@wcbka.org.uk
SUMMARY:BBKA STUDY GROUP~
DESCRIPTION:
URL:https://wcbka.org.uk/event/bbka-study-group/
LOCATION:Marazion Community Centre\, Gwallon Lane\, Marazion\, Cornwall\, TR17 0HW\, United Kingdom
CATEGORIES:BBKA Study Group
END:VEVENT
BEGIN:VEVENT
DTSTART;TZID=Europe/London:20241118T190000
DTEND;TZID=Europe/London:20241118T203000
DTSTAMP:20260423T232912
CREATED:20241118T160018Z
LAST-MODIFIED:20241118T160018Z
UID:1560-1731956400-1731961800@wcbka.org.uk
SUMMARY:BBKA Study Group ~
DESCRIPTION:
URL:https://wcbka.org.uk/event/bbka-study-group-3/
LOCATION:Marazion Community Centre\, Gwallon Lane\, Marazion\, Cornwall\, TR17 0HW\, United Kingdom
CATEGORIES:BBKA Study Group
END:VEVENT
BEGIN:VEVENT
DTSTART;VALUE=DATE:20241005
DTEND;VALUE=DATE:20241006
DTSTAMP:20260423T232912
CREATED:20230126T122851Z
LAST-MODIFIED:20240517T143506Z
UID:1335-1728086400-1728172799@wcbka.org.uk
SUMMARY:BOAD - A Bit of a Do - Convention 2024
DESCRIPTION:Six events across the day\nCornwall and West Cornwall Beekeepers Association are pleased to welcome beekeepers from across the South West to our convention. This year\, we have moved to the Camborne Learning Centre on the Pool campus of Cornwall College. Just off the A30\, it’s easy to find and has plenty of parking. We have presentations for the intermediate beekeeper through to the leading edge of academic research\, and a large exhibition space with traders and exhibitors from Beekeeping charities and other special interest groups associated with the craft. \nA chance to catch up\nIt’s always a pleasure to meet up with friends and colleagues to discuss all things apiary. The programme includes plenty of time and opportunity to do so over a convivial refreshment. Time too to browse for those specific books or items of beekeeping equipment that you always meant to get hold of. Oh\, and a chance to grab some raffle tickets for an array of beekeeping prizes. \nExhibitions and Trade Stands\nThere’s a large exhibition space located right by the main lecture area\, where we are delighted to welcome a wide range of exhibitions and Trade stands. \nGadget Competition\nTo celebrate the ingenuity of beekeepers in the South West\, we want to see how you have overcome the problems of beekeeping by devising a cunning solution to a beekeeping problem\, and we have so many! Perhaps you have a clever way of storing your equipment\, a well designed box or bag for carrying your bits and bobs\, a device for monitoring varroa\, a better hive tool\, a gadget for removing stings\, the most ingenious solar extractor or maybe your honey de-crystallising box. You get the idea? \nIf your gadget is not too big\, then bring it along. If it is not transportable\, then please bring along some photos. We would like to see any drawings you have made and perhaps some earlier prototypes. Of course you will need to write down what your gadget is for\, and how it works\, and if you have only brought photos\, some approximate dimensions. \nPlease label your gadget with your name and register it with Mark Hoult in the foyer of the Trelawney Building. \nThere is no charge for entry\, and you can bring along as many entries as you like. \nRoger Patterson will be judging the entries and the winner will receive a prize (as well as the admiration of fellow beekeepers). \nGood Luck! \nAnd\, being Cornwall\, Pasties!\nAs is our tradition\, pasties for lunchtime will be available to order in advance. New for this year is the ability to order a choice of pasties along with your ticket. Please note that pasty-included tickets will not be available after Sunday 29th September\, so that we can arrange with our suppliers. Admission only tickets will remain available up to the day. \nThe venue:\nWe’ve moved! This year we are in the Trelawney Building of the Cornwall College Campus\, Camborne. We’ve got more space\, bigger seating areas\, more parking and we’re all under one roof! Finding the venue is easy – the Campus is just off the A30 with the main entrance right by the landmark “FIBRE HUB” building on the A3047. Upon arrival at the Cornwall College Camborne campus\, please just follow the signs to our main reception\, located in the Trelawney building. Please use the Google plus code: 6PHF+48 Redruth
URL:https://wcbka.org.uk/event/boad-a-bit-of-a-do-2024/
LOCATION:Cornwall College\, Trelawney Building\, Pool\, Trelawney Building\, Pool\, Cornwall\, TR15 3GF\, United Kingdom
CATEGORIES:Other events
END:VEVENT
BEGIN:VEVENT
DTSTART;TZID=Europe/London:20240831T103000
DTEND;TZID=Europe/London:20240831T143000
DTSTAMP:20260423T232912
CREATED:20240826T103944Z
LAST-MODIFIED:20240826T104903Z
UID:1512-1725100200-1725114600@wcbka.org.uk
SUMMARY:Asian Hornet Day
DESCRIPTION:Free Entry\, Open to you\, your family & friends\, members of the public and other clubs / associations / organisations etc. \nPlease share this invitation as you see fit. \nWe are kicking off the BBKA nationwide Asian Hornet awareness week by holding the WCBKA Asian Hornet Day. \nDuring Asian Hornet week we are asking members to deploy traps and bait stations for that week and report their location back to membership@wcbka.org.uk  as part of the BBKA National Network.  We can all make a difference and be part of a much bigger picture. \nCome along to the Asian Hornet Day and learn more.
URL:https://wcbka.org.uk/event/asian-hornet-day/
LOCATION:Village Hall\, Goldsithney\, Goldsithney\, Penzance\, Cornwall\, TR20 9LF\, United Kingdom
CATEGORIES:Other events
END:VEVENT
BEGIN:VEVENT
DTSTART;TZID=Europe/London:20240408T193000
DTEND;TZID=Europe/London:20240408T213000
DTSTAMP:20260423T232912
CREATED:20231022T103856Z
LAST-MODIFIED:20231022T104108Z
UID:1441-1712604600-1712611800@wcbka.org.uk
SUMMARY:Better Beekeeping - The Call of the Wild
DESCRIPTION:The Call of the Wild – swarming and how to manage it
URL:https://wcbka.org.uk/event/better-beekeeping-the-call-of-the-wild/
LOCATION:Marazion Community Centre\, Gwallon Lane\, Marazion\, Cornwall\, TR17 0HW\, United Kingdom
CATEGORIES:Better Beekeeping
END:VEVENT
BEGIN:VEVENT
DTSTART;TZID=Europe/London:20240325T193000
DTEND;TZID=Europe/London:20240325T213000
DTSTAMP:20260423T232912
CREATED:20231021T172250Z
LAST-MODIFIED:20231021T172749Z
UID:1439-1711395000-1711402200@wcbka.org.uk
SUMMARY:Better Beekeeping - When the Hive Gets Ugly
DESCRIPTION:“When the Hive Gets Ugly” – Disease and pest control
URL:https://wcbka.org.uk/event/better-beekeeping-when-the-hive-gets-ugly/
LOCATION:Cornwall
CATEGORIES:Better Beekeeping
END:VEVENT
BEGIN:VEVENT
DTSTART;TZID=Europe/London:20240311T193000
DTEND;TZID=Europe/London:20240311T213000
DTSTAMP:20260423T232912
CREATED:20231021T171947Z
LAST-MODIFIED:20240102T133804Z
UID:1437-1710185400-1710192600@wcbka.org.uk
SUMMARY:Winter Meeting - Asian Hornet update from Dr Pete Kennedy
DESCRIPTION:Winter Meeting  – As our beekeeping season starts again\, Dr Pete Kennedy will give us a timely update on the Asian Hornet. An important date to put in your diaries\, what we shall need to do and when\, to prepare for a vigilant Spring.
URL:https://wcbka.org.uk/event/winter-meeting-2/
LOCATION:Marazion Community Centre\, Gwallon Lane\, Marazion\, Cornwall\, TR17 0HW\, United Kingdom
CATEGORIES:Winter meeting
END:VEVENT
BEGIN:VEVENT
DTSTART;TZID=Europe/London:20240309T100000
DTEND;TZID=Europe/London:20240309T150000
DTSTAMP:20260423T232912
CREATED:20240219T161241Z
LAST-MODIFIED:20240219T161447Z
UID:1470-1709978400-1709996400@wcbka.org.uk
SUMMARY:Honey Show & Educational Day
DESCRIPTION:Join us for chat\, cake and real honey as well as displays on the Asian hornet threat\, honey fraud\, planting for bees and much more…..
URL:https://wcbka.org.uk/event/honey-show-educational-day/
LOCATION:Marazion Community Centre\, Gwallon Lane\, Marazion\, Cornwall\, TR17 0HW\, United Kingdom
CATEGORIES:Other events
ATTACH;FMTTYPE=image/jpeg:https://wcbka.org.uk/wcbka/wp-content/uploads/2024/02/MArch-2024-bee-awareness-and-honey-show._1-1.jpeg
ORGANIZER;CN="WCBKA Honey Show":MAILTO:honeyfestival@quillet.org.uk
END:VEVENT
BEGIN:VEVENT
DTSTART;TZID=Europe/London:20240226T193000
DTEND;TZID=Europe/London:20240226T213000
DTSTAMP:20260423T232912
CREATED:20231021T171827Z
LAST-MODIFIED:20240102T133938Z
UID:1435-1708975800-1708983000@wcbka.org.uk
SUMMARY:Better Beekeeping - Reading a Hive - what to look for...
DESCRIPTION:“Reading a Hive” – What to look for when you open up a colony.
URL:https://wcbka.org.uk/event/better-beekeeping-reading-a-hive/
LOCATION:Marazion Community Centre\, Gwallon Lane\, Marazion\, Cornwall\, TR17 0HW\, United Kingdom
CATEGORIES:Better Beekeeping
END:VEVENT
BEGIN:VEVENT
DTSTART;TZID=Europe/London:20240212T193000
DTEND;TZID=Europe/London:20240212T213000
DTSTAMP:20260423T232912
CREATED:20231021T165832Z
LAST-MODIFIED:20240102T133627Z
UID:1425-1707766200-1707773400@wcbka.org.uk
SUMMARY:Winter Meeting - A Hands Off Approach to Beekeeping
DESCRIPTION:A Hands Off Approach to Beekeeping with Simon Kellam from Justbee Ecohives – should be thought-provoking\, perhaps even slightly controversial…..
URL:https://wcbka.org.uk/event/winter-meeting-a-hands-off-approach-to-beekeeping/
LOCATION:Marazion Community Centre\, Gwallon Lane\, Marazion\, Cornwall\, TR17 0HW\, United Kingdom
CATEGORIES:Winter meeting
END:VEVENT
BEGIN:VEVENT
DTSTART;TZID=Europe/London:20240122T193000
DTEND;TZID=Europe/London:20240122T213000
DTSTAMP:20260423T232912
CREATED:20231021T171449Z
LAST-MODIFIED:20231021T171449Z
UID:1431-1705951800-1705959000@wcbka.org.uk
SUMMARY:Better Beekeeping - General Husbandry
DESCRIPTION:“General Husbandry” – Looking after your bees; a roof over their head and food on their frames.
URL:https://wcbka.org.uk/event/better-beekeeping-general-husbandry/
LOCATION:Marazion Community Centre\, Gwallon Lane\, Marazion\, Cornwall\, TR17 0HW\, United Kingdom
CATEGORIES:Better Beekeeping
END:VEVENT
BEGIN:VEVENT
DTSTART;TZID=Europe/London:20240108T193000
DTEND;TZID=Europe/London:20240108T213000
DTSTAMP:20260423T232912
CREATED:20231021T165626Z
LAST-MODIFIED:20231021T165626Z
UID:1423-1704742200-1704749400@wcbka.org.uk
SUMMARY:Winter Meeting - Removing Swarms from Interesting Places!
DESCRIPTION:Removing Swarms from Interesting Places! with Mollie Earle
URL:https://wcbka.org.uk/event/winter-meeting-removing-swarms-from-interesting-places/
LOCATION:Marazion Community Centre\, Gwallon Lane\, Marazion\, Cornwall\, TR17 0HW\, United Kingdom
CATEGORIES:Winter meeting
END:VEVENT
BEGIN:VEVENT
DTSTART;TZID=Europe/London:20231204T193000
DTEND;TZID=Europe/London:20231204T213000
DTSTAMP:20260423T232912
CREATED:20231021T170412Z
LAST-MODIFIED:20231021T171015Z
UID:1427-1701718200-1701725400@wcbka.org.uk
SUMMARY:WCBKA Christmas Party
DESCRIPTION:Christmas Party
URL:https://wcbka.org.uk/event/wcbka-christmas-party-2024/
LOCATION:Marazion Community Centre\, Gwallon Lane\, Marazion\, Cornwall\, TR17 0HW\, United Kingdom
CATEGORIES:Winter meeting
END:VEVENT
BEGIN:VEVENT
DTSTART;TZID=Europe/London:20231127T193000
DTEND;TZID=Europe/London:20231127T213000
DTSTAMP:20260423T232912
CREATED:20231021T170920Z
LAST-MODIFIED:20231021T170920Z
UID:1429-1701113400-1701120600@wcbka.org.uk
SUMMARY:Better Beekeeping - “The Life of a Bee”
DESCRIPTION:“The Life of a Bee” – a talk covering the life cycle and of honey bees and colony development through the seasons.
URL:https://wcbka.org.uk/event/better-beekeeping-the-life-of-a-bee/
LOCATION:Marazion Community Centre\, Gwallon Lane\, Marazion\, Cornwall\, TR17 0HW\, United Kingdom
CATEGORIES:Better Beekeeping
END:VEVENT
BEGIN:VEVENT
DTSTART;TZID=Europe/London:20231106T193000
DTEND;TZID=Europe/London:20231106T213000
DTSTAMP:20260423T232912
CREATED:20231021T165137Z
LAST-MODIFIED:20231021T165423Z
UID:1421-1699299000-1699306200@wcbka.org.uk
SUMMARY:AGM and 3 Members’ “Shorts”
DESCRIPTION:AGM and 3 Members’ “Shorts” from Bridget\, Lindsay and Kate about different aspects in their beekeeping.
URL:https://wcbka.org.uk/event/agm-and-3-members-shorts/
LOCATION:Marazion Community Centre\, Gwallon Lane\, Marazion\, Cornwall\, TR17 0HW\, United Kingdom
CATEGORIES:Winter meeting
END:VEVENT
END:VCALENDAR