BEGIN:VCALENDAR
VERSION:2.0
PRODID:-//West Cornwall Beekeepers’ Association - ECPv6.15.20//NONSGML v1.0//EN
CALSCALE:GREGORIAN
METHOD:PUBLISH
X-WR-CALNAME:West Cornwall Beekeepers’ Association
X-ORIGINAL-URL:https://wcbka.org.uk
X-WR-CALDESC:Events for West Cornwall Beekeepers’ Association
REFRESH-INTERVAL;VALUE=DURATION:PT1H
X-Robots-Tag:noindex
X-PUBLISHED-TTL:PT1H
BEGIN:VTIMEZONE
TZID:Europe/London
BEGIN:DAYLIGHT
TZOFFSETFROM:+0000
TZOFFSETTO:+0100
TZNAME:BST
DTSTART:20200329T010000
END:DAYLIGHT
BEGIN:STANDARD
TZOFFSETFROM:+0100
TZOFFSETTO:+0000
TZNAME:GMT
DTSTART:20201025T010000
END:STANDARD
BEGIN:DAYLIGHT
TZOFFSETFROM:+0000
TZOFFSETTO:+0100
TZNAME:BST
DTSTART:20210328T010000
END:DAYLIGHT
BEGIN:STANDARD
TZOFFSETFROM:+0100
TZOFFSETTO:+0000
TZNAME:GMT
DTSTART:20211031T010000
END:STANDARD
BEGIN:DAYLIGHT
TZOFFSETFROM:+0000
TZOFFSETTO:+0100
TZNAME:BST
DTSTART:20220327T010000
END:DAYLIGHT
BEGIN:STANDARD
TZOFFSETFROM:+0100
TZOFFSETTO:+0000
TZNAME:GMT
DTSTART:20221030T010000
END:STANDARD
END:VTIMEZONE
BEGIN:VEVENT
DTSTART;TZID=Europe/London:20211004T193000
DTEND;TZID=Europe/London:20211004T210000
DTSTAMP:20260425T145613
CREATED:20210928T113144Z
LAST-MODIFIED:20210928T114918Z
UID:1001-1633375800-1633381200@wcbka.org.uk
SUMMARY:Sex and the wanton virgin queen
DESCRIPTION:A Zoom talk from Clare Densley and Martin Hann of Buckfast Bees \nClare Densley has been keeping bees since 1992 and has worked at the Abbey for 10 years. She has also worked for two years as a seasonal bee inspector for Devon. “Working at the Abbey Bee department is the best job I have ever done. I’m so lucky to be able to indulge my passion for bees and get to share it with others.” \nMartin Hann has been working as a seasonal bee inspector for Devon and Cornwall for 3 years. We are incredibly fortunate to have Martin as part of our teaching\, planning and maintenance team. His knowledge and experience complements and enriches the bee department’s ethos to understand honey bee behaviour and therefore work with them as much as possible. \nMembers of WCBKA will get a Zoom invitation and link a few days prior to each meeting.  Please email our Secretary if you are a non member interested in attending.
URL:https://wcbka.org.uk/event/sex-and-the-wanton-virgin-queen/
LOCATION:Zoom Meeting\, United Kingdom
END:VEVENT
END:VCALENDAR