BEGIN:VCALENDAR
VERSION:2.0
PRODID:-//West Cornwall Beekeepers’ Association - ECPv6.15.20//NONSGML v1.0//EN
CALSCALE:GREGORIAN
METHOD:PUBLISH
X-WR-CALNAME:West Cornwall Beekeepers’ Association
X-ORIGINAL-URL:https://wcbka.org.uk
X-WR-CALDESC:Events for West Cornwall Beekeepers’ Association
REFRESH-INTERVAL;VALUE=DURATION:PT1H
X-Robots-Tag:noindex
X-PUBLISHED-TTL:PT1H
BEGIN:VTIMEZONE
TZID:Europe/London
BEGIN:DAYLIGHT
TZOFFSETFROM:+0000
TZOFFSETTO:+0100
TZNAME:BST
DTSTART:20200329T010000
END:DAYLIGHT
BEGIN:STANDARD
TZOFFSETFROM:+0100
TZOFFSETTO:+0000
TZNAME:GMT
DTSTART:20201025T010000
END:STANDARD
BEGIN:DAYLIGHT
TZOFFSETFROM:+0000
TZOFFSETTO:+0100
TZNAME:BST
DTSTART:20210328T010000
END:DAYLIGHT
BEGIN:STANDARD
TZOFFSETFROM:+0100
TZOFFSETTO:+0000
TZNAME:GMT
DTSTART:20211031T010000
END:STANDARD
BEGIN:DAYLIGHT
TZOFFSETFROM:+0000
TZOFFSETTO:+0100
TZNAME:BST
DTSTART:20220327T010000
END:DAYLIGHT
BEGIN:STANDARD
TZOFFSETFROM:+0100
TZOFFSETTO:+0000
TZNAME:GMT
DTSTART:20221030T010000
END:STANDARD
BEGIN:DAYLIGHT
TZOFFSETFROM:+0000
TZOFFSETTO:+0100
TZNAME:BST
DTSTART:20230326T010000
END:DAYLIGHT
BEGIN:STANDARD
TZOFFSETFROM:+0100
TZOFFSETTO:+0000
TZNAME:GMT
DTSTART:20231029T010000
END:STANDARD
END:VTIMEZONE
BEGIN:VEVENT
DTSTART;TZID=Europe/London:20220606T140000
DTEND;TZID=Europe/London:20220606T160000
DTSTAMP:20260425T115851
CREATED:20220516T092509Z
LAST-MODIFIED:20220516T094607Z
UID:1133-1654524000-1654531200@wcbka.org.uk
SUMMARY:WCBKA apiary ~
DESCRIPTION:Weekly meeting at the WCBKA training apiary near Marazion. All members whatever their level of experience are welcome\, as this is a good opportunity to learn from experienced beekeepers and for us all to learn from each other\, work with different colonies and meet fellow members. \nIn order to maximise the learning opportunity for all\, we ask you to contact the apiary manager at apiarymanager@wcbka.org.uk in advance so that groups of similar levels of experience can be formed. \nKeep an eye on your emails at times of questionable weather as this is how cancellation will be communicated. \nFor location details please email the apiary manager.
URL:https://wcbka.org.uk/event/wcbka-apiary-3/
LOCATION:WCBKA Training Apiary
ORGANIZER;CN="Apiary Manager":MAILTO:apiarymanager@wcbka.org.uk
END:VEVENT
BEGIN:VEVENT
DTSTART;TZID=Europe/London:20220530T140000
DTEND;TZID=Europe/London:20220530T160000
DTSTAMP:20260425T115851
CREATED:20220516T092323Z
LAST-MODIFIED:20220516T094613Z
UID:1131-1653919200-1653926400@wcbka.org.uk
SUMMARY:WCBKA apiary ~
DESCRIPTION:Weekly meeting at the WCBKA training apiary near Marazion. All members whatever their level of experience are welcome\, as this is a good opportunity to learn from experienced beekeepers and for us all to learn from each other\, work with different colonies and meet fellow members. \nIn order to maximise the learning opportunity for all\, we ask you to contact the apiary manager at apiarymanager@wcbka.org.uk in advance so that groups of similar levels of experience can be formed. \nKeep an eye on your emails at times of questionable weather as this is how cancellation will be communicated. \nFor location details please email the apiary manager.
URL:https://wcbka.org.uk/event/wcbka-apiary-2/
LOCATION:WCBKA Training Apiary
ORGANIZER;CN="Apiary Manager":MAILTO:apiarymanager@wcbka.org.uk
END:VEVENT
BEGIN:VEVENT
DTSTART;TZID=Europe/London:20220523T140000
DTEND;TZID=Europe/London:20220523T160000
DTSTAMP:20260425T115851
CREATED:20220516T092201Z
LAST-MODIFIED:20220516T094624Z
UID:1128-1653314400-1653321600@wcbka.org.uk
SUMMARY:WCBKA apiary ~
DESCRIPTION:Weekly meeting at the WCBKA training apiary near Marazion. All members whatever their level of experience are welcome\, as this is a good opportunity to learn from experienced beekeepers and for us all to learn from each other\, work with different colonies and meet fellow members. \nIn order to maximise the learning opportunity for all\, we ask you to contact the apiary manager at apiarymanager@wcbka.org.uk in advance so that groups of similar levels of experience can be formed. \nKeep an eye on your emails at times of questionable weather as this is how cancellation will be communicated. \nFor location details please email the apiary manager.
URL:https://wcbka.org.uk/event/wcbka-training-apiary/
LOCATION:WCBKA Training Apiary
ORGANIZER;CN="Apiary Manager":MAILTO:apiarymanager@wcbka.org.uk
END:VEVENT
BEGIN:VEVENT
DTSTART;TZID=Europe/London:20220516T140000
DTEND;TZID=Europe/London:20220516T160000
DTSTAMP:20260425T115851
CREATED:20220516T092043Z
LAST-MODIFIED:20220516T094634Z
UID:1125-1652709600-1652716800@wcbka.org.uk
SUMMARY:WCBKA apiary ~
DESCRIPTION:Weekly meeting at the WCBKA training apiary near Marazion. All members whatever their level of experience are welcome\, as this is a good opportunity to learn from experienced beekeepers and for us all to learn from each other\, work with different colonies and meet fellow members. \nIn order to maximise the learning opportunity for all\, we ask you to contact the apiary manager at apiarymanager@wcbka.org.uk in advance so that groups of similar levels of experience can be formed. \nKeep an eye on your emails at times of questionable weather as this is how cancellation will be communicated. \nFor location details please email the apiary manager.
URL:https://wcbka.org.uk/event/wcbka-apiary/
LOCATION:WCBKA Training Apiary
ORGANIZER;CN="Apiary Manager":MAILTO:apiarymanager@wcbka.org.uk
END:VEVENT
BEGIN:VEVENT
DTSTART;TZID=Europe/London:20220307T190000
DTEND;TZID=Europe/London:20220307T210000
DTSTAMP:20260425T115851
CREATED:20211207T134007Z
LAST-MODIFIED:20220307T151921Z
UID:1042-1646679600-1646686800@wcbka.org.uk
SUMMARY:The Garden\, Forage and Bees - talk by Pam Hunter
DESCRIPTION:Pam is a Master Beekeepers and has been keeping bees for over 25years. She is also a members of BIBBA and the Centrat Association of Beekeepers.\nPam’s background is in biological sciences. She was employed in microbiological research in the pharmaceutical industry for 30 years before becoming a freelance consultant and writer.\nUntil recently Pam was Chair of the BBKA Examinations Board.\nPam is particularly interested in scientific aspects of bees and their interaction with the environment and plants. Also the neglected area of historical aspects of bees\, the environment and beekeeping. She gives talks on these topics around the country.
URL:https://wcbka.org.uk/event/the-garden-forage-and-bees-talk-by-pam-hunter/
LOCATION:Zoom Meeting\, United Kingdom
END:VEVENT
BEGIN:VEVENT
DTSTART;TZID=Europe/London:20220207T193000
DTEND;TZID=Europe/London:20220207T210000
DTSTAMP:20260425T115851
CREATED:20211207T134209Z
LAST-MODIFIED:20211207T134209Z
UID:1045-1644262200-1644267600@wcbka.org.uk
SUMMARY:Zoom talk by Roger Dewhurst
DESCRIPTION:
URL:https://wcbka.org.uk/event/zoom-talk-by-roger-dewhurst/
LOCATION:Zoom Meeting\, United Kingdom
END:VEVENT
BEGIN:VEVENT
DTSTART;TZID=Europe/London:20220205T120000
DTEND;TZID=Europe/London:20220205T160000
DTSTAMP:20260425T115851
CREATED:20220112T181057Z
LAST-MODIFIED:20220112T181057Z
UID:1052-1644062400-1644076800@wcbka.org.uk
SUMMARY:St. Piran’s Honey Festival
DESCRIPTION:Open to All  – Free Entry – Join us in celebrating the wonder of bees! \nRaffle\, Display of all things bee related\, Home made cakes\, Local Honey for Sale. \nFind out about: Honey Fraud! What beekeepers do! The threat of the Asian Hornet! \n  \nSubject to covid regs.\nA large ventilated hall but masks must be worn unless eating cake!
URL:https://wcbka.org.uk/event/st-pirans-honey-festival/
LOCATION:Village Hall\, Goldsithney\, Goldsithney\, Penzance\, Cornwall\, TR20 9LF\, United Kingdom
ORGANIZER;CN="WCBKA Honey Show":MAILTO:honeyfestival@quillet.org.uk
END:VEVENT
BEGIN:VEVENT
DTSTART;TZID=Europe/London:20220103T193000
DTEND;TZID=Europe/London:20220103T210000
DTSTAMP:20260425T115851
CREATED:20210928T113731Z
LAST-MODIFIED:20211207T133819Z
UID:1007-1641238200-1641243600@wcbka.org.uk
SUMMARY:No Show Honey Show
DESCRIPTION:No Show Honey Show – By popular request – Debby and Paul hosting \nMembers of WCBKA will get a Zoom invitation and link a few days prior to each meeting. Please email our Secretary if you are a non member interested in attending.
URL:https://wcbka.org.uk/event/no-show-honey-show/
LOCATION:Zoom Meeting\, United Kingdom
END:VEVENT
BEGIN:VEVENT
DTSTART;TZID=Europe/London:20211127T095000
DTEND;TZID=Europe/London:20211127T163000
DTSTAMP:20260425T115851
CREATED:20211002T103203Z
LAST-MODIFIED:20211002T103435Z
UID:1022-1638006600-1638030600@wcbka.org.uk
SUMMARY:A Bit of a Do - online!
DESCRIPTION:All the features of a physical convention but without the need to travel. \n£5 entry – numbers limited to 300. \nClick here for full details. \nClick here for tickets. \n  \n 
URL:https://wcbka.org.uk/event/a-bit-of-a-do-online/
END:VEVENT
BEGIN:VEVENT
DTSTART;TZID=Europe/London:20211108T193000
DTEND;TZID=Europe/London:20211108T210000
DTSTAMP:20260425T115851
CREATED:20210928T113600Z
LAST-MODIFIED:20211013T132046Z
UID:1005-1636399800-1636405200@wcbka.org.uk
SUMMARY:AGM and talk by John De Carteret
DESCRIPTION:AGM followed by a talk from John De Carteret : Asian Hornets – the Jersey Experience \nMembers of WCBKA will get a Zoom invitation and link a few days prior to each meeting. Please email our Secretary (secretary@westcornwallbka.org.uk) if you are a non member interested in attending.
URL:https://wcbka.org.uk/event/agm-and-talk-by-john-de-carteret/
LOCATION:Zoom Meeting\, United Kingdom
END:VEVENT
BEGIN:VEVENT
DTSTART;TZID=Europe/London:20211004T193000
DTEND;TZID=Europe/London:20211004T210000
DTSTAMP:20260425T115851
CREATED:20210928T113144Z
LAST-MODIFIED:20210928T114918Z
UID:1001-1633375800-1633381200@wcbka.org.uk
SUMMARY:Sex and the wanton virgin queen
DESCRIPTION:A Zoom talk from Clare Densley and Martin Hann of Buckfast Bees \nClare Densley has been keeping bees since 1992 and has worked at the Abbey for 10 years. She has also worked for two years as a seasonal bee inspector for Devon. “Working at the Abbey Bee department is the best job I have ever done. I’m so lucky to be able to indulge my passion for bees and get to share it with others.” \nMartin Hann has been working as a seasonal bee inspector for Devon and Cornwall for 3 years. We are incredibly fortunate to have Martin as part of our teaching\, planning and maintenance team. His knowledge and experience complements and enriches the bee department’s ethos to understand honey bee behaviour and therefore work with them as much as possible. \nMembers of WCBKA will get a Zoom invitation and link a few days prior to each meeting.  Please email our Secretary if you are a non member interested in attending.
URL:https://wcbka.org.uk/event/sex-and-the-wanton-virgin-queen/
LOCATION:Zoom Meeting\, United Kingdom
END:VEVENT
END:VCALENDAR