BEGIN:VCALENDAR
VERSION:2.0
PRODID:-//West Cornwall Beekeepers’ Association - ECPv6.15.20//NONSGML v1.0//EN
CALSCALE:GREGORIAN
METHOD:PUBLISH
X-WR-CALNAME:West Cornwall Beekeepers’ Association
X-ORIGINAL-URL:https://wcbka.org.uk
X-WR-CALDESC:Events for West Cornwall Beekeepers’ Association
REFRESH-INTERVAL;VALUE=DURATION:PT1H
X-Robots-Tag:noindex
X-PUBLISHED-TTL:PT1H
BEGIN:VTIMEZONE
TZID:Europe/London
BEGIN:DAYLIGHT
TZOFFSETFROM:+0000
TZOFFSETTO:+0100
TZNAME:BST
DTSTART:20200329T010000
END:DAYLIGHT
BEGIN:STANDARD
TZOFFSETFROM:+0100
TZOFFSETTO:+0000
TZNAME:GMT
DTSTART:20201025T010000
END:STANDARD
BEGIN:DAYLIGHT
TZOFFSETFROM:+0000
TZOFFSETTO:+0100
TZNAME:BST
DTSTART:20210328T010000
END:DAYLIGHT
BEGIN:STANDARD
TZOFFSETFROM:+0100
TZOFFSETTO:+0000
TZNAME:GMT
DTSTART:20211031T010000
END:STANDARD
BEGIN:DAYLIGHT
TZOFFSETFROM:+0000
TZOFFSETTO:+0100
TZNAME:BST
DTSTART:20220327T010000
END:DAYLIGHT
BEGIN:STANDARD
TZOFFSETFROM:+0100
TZOFFSETTO:+0000
TZNAME:GMT
DTSTART:20221030T010000
END:STANDARD
BEGIN:DAYLIGHT
TZOFFSETFROM:+0000
TZOFFSETTO:+0100
TZNAME:BST
DTSTART:20230326T010000
END:DAYLIGHT
BEGIN:STANDARD
TZOFFSETFROM:+0100
TZOFFSETTO:+0000
TZNAME:GMT
DTSTART:20231029T010000
END:STANDARD
END:VTIMEZONE
BEGIN:VEVENT
DTSTART;TZID=Europe/London:20221128T193000
DTEND;TZID=Europe/London:20221128T193000
DTSTAMP:20260425T025814
CREATED:20221005T104501Z
LAST-MODIFIED:20221101T124235Z
UID:1262-1669663800-1669663800@wcbka.org.uk
SUMMARY:Better Beekeeping
DESCRIPTION:Better Beekeeping – postponed from Monday 21st November\, the proposed topics will be “What Kit To Buy!?” for Beginners cohort and “Managing weak and/or Diseased Colonies” for Improvers.
URL:https://wcbka.org.uk/event/better-beekeeping-2/
LOCATION:Marazion Community Centre\, Gwallon Lane\, Marazion\, Cornwall\, TR17 0HW\, United Kingdom
CATEGORIES:Better Beekeeping
END:VEVENT
BEGIN:VEVENT
DTSTART;TZID=Europe/London:20221107T190000
DTEND;TZID=Europe/London:20221107T210000
DTSTAMP:20260425T025814
CREATED:20220516T095430Z
LAST-MODIFIED:20220831T123608Z
UID:1180-1667847600-1667854800@wcbka.org.uk
SUMMARY:AGM
DESCRIPTION:Our Annual General Meeting\, with a talk by Jo Widdecombe
URL:https://wcbka.org.uk/event/agm/
LOCATION:Cornwall
END:VEVENT
BEGIN:VEVENT
DTSTART;TZID=Europe/London:20221017T193000
DTEND;TZID=Europe/London:20221017T213000
DTSTAMP:20260425T025814
CREATED:20221005T104342Z
LAST-MODIFIED:20221005T104342Z
UID:1260-1666035000-1666042200@wcbka.org.uk
SUMMARY:Better Beekeeping
DESCRIPTION:Better Beekeeping
URL:https://wcbka.org.uk/event/better-beekeeping/
LOCATION:Marazion Community Centre\, Gwallon Lane\, Marazion\, Cornwall\, TR17 0HW\, United Kingdom
CATEGORIES:Better Beekeeping
END:VEVENT
BEGIN:VEVENT
DTSTART;TZID=Europe/London:20221008T090000
DTEND;TZID=Europe/London:20221008T170000
DTSTAMP:20260425T025814
CREATED:20220512T104943Z
LAST-MODIFIED:20220827T094340Z
UID:1107-1665219600-1665248400@wcbka.org.uk
SUMMARY:BOAD - A Bit of a Do!
DESCRIPTION:Cornwall’s Beekeeping Convention at Truro College\n\nProgramme of speakers: \n\nMorning sessions: Juliet Osborne\, Fay Kahane\, Dan Basterfield\nAfternoon sessions: Jo Widdicombe\, Dan Basterfield\, Dave Goulson\n\nRegistration from 9:00 with Cornish musical welcome by “Bagas Crowd” \nPresentations commence 10:00 \nTraders\, Charities\, Exhibitions and refreshments throughout the day (Pasty lunches bookable in advance) \nClick here for more information and to get tickets. \nClick here for full programme (pdf).
URL:https://wcbka.org.uk/event/boad-a-bit-of-a-do/
LOCATION:Truro College\, Truro College\, Fal Building\, Truro\, Cornwall\, TR1 3XX\, United Kingdom
END:VEVENT
BEGIN:VEVENT
DTSTART;TZID=Europe/London:20221003T193000
DTEND;TZID=Europe/London:20221003T210000
DTSTAMP:20260425T025814
CREATED:20220802T111444Z
LAST-MODIFIED:20220802T111734Z
UID:1212-1664825400-1664830800@wcbka.org.uk
SUMMARY:WCBKA Winter meeting
DESCRIPTION:Winter meetings start again on October 3rd
URL:https://wcbka.org.uk/event/wcbka-winter-meeting/
LOCATION:Marazion Community Centre\, Gwallon Lane\, Marazion\, Cornwall\, TR17 0HW\, United Kingdom
END:VEVENT
BEGIN:VEVENT
DTSTART;TZID=Europe/London:20220919T193000
DTEND;TZID=Europe/London:20220919T210000
DTSTAMP:20260425T025814
CREATED:20210928T114137Z
LAST-MODIFIED:20220802T111313Z
UID:1009-1663615800-1663621200@wcbka.org.uk
SUMMARY:Better Beekeeping
DESCRIPTION:Better beekeeping meetings start again at Marazion
URL:https://wcbka.org.uk/event/better-beekeeping-8/
LOCATION:Marazion Community Centre\, Gwallon Lane\, Marazion\, Cornwall\, TR17 0HW\, United Kingdom
END:VEVENT
BEGIN:VEVENT
DTSTART;TZID=Europe/London:20220905T140000
DTEND;TZID=Europe/London:20220905T160000
DTSTAMP:20260425T025814
CREATED:20220516T093909Z
LAST-MODIFIED:20220516T094324Z
UID:1159-1662386400-1662393600@wcbka.org.uk
SUMMARY:WCBKA apiary ~
DESCRIPTION:Weekly meeting at the WCBKA training apiary near Marazion. All members whatever their level of experience are welcome\, as this is a good opportunity to learn from experienced beekeepers and for us all to learn from each other\, work with different colonies and meet fellow members. \nIn order to maximise the learning opportunity for all\, we ask you to contact the apiary manager at apiarymanager@wcbka.org.uk in advance so that groups of similar levels of experience can be formed. \nKeep an eye on your emails at times of questionable weather as this is how cancellation will be communicated. \nFor location details please email the apiary manager.
URL:https://wcbka.org.uk/event/wcbka-apiary-16/
LOCATION:WCBKA Training Apiary
ORGANIZER;CN="Apiary Manager":MAILTO:apiarymanager@wcbka.org.uk
END:VEVENT
BEGIN:VEVENT
DTSTART;TZID=Europe/London:20220829T140000
DTEND;TZID=Europe/London:20220829T160000
DTSTAMP:20260425T025814
CREATED:20220516T093808Z
LAST-MODIFIED:20220516T094347Z
UID:1157-1661781600-1661788800@wcbka.org.uk
SUMMARY:WCBKA apiary ~
DESCRIPTION:Weekly meeting at the WCBKA training apiary near Marazion. All members whatever their level of experience are welcome\, as this is a good opportunity to learn from experienced beekeepers and for us all to learn from each other\, work with different colonies and meet fellow members. \nIn order to maximise the learning opportunity for all\, we ask you to contact the apiary manager at apiarymanager@wcbka.org.uk in advance so that groups of similar levels of experience can be formed. \nKeep an eye on your emails at times of questionable weather as this is how cancellation will be communicated. \nFor location details please email the apiary manager.
URL:https://wcbka.org.uk/event/wcbka-apiary-15/
LOCATION:WCBKA Training Apiary
ORGANIZER;CN="Apiary Manager":MAILTO:apiarymanager@wcbka.org.uk
END:VEVENT
BEGIN:VEVENT
DTSTART;TZID=Europe/London:20220822T140000
DTEND;TZID=Europe/London:20220822T160000
DTSTAMP:20260425T025814
CREATED:20220516T093714Z
LAST-MODIFIED:20220516T094429Z
UID:1155-1661176800-1661184000@wcbka.org.uk
SUMMARY:WCBKA apiary ~
DESCRIPTION:Weekly meeting at the WCBKA training apiary near Marazion. All members whatever their level of experience are welcome\, as this is a good opportunity to learn from experienced beekeepers and for us all to learn from each other\, work with different colonies and meet fellow members. \nIn order to maximise the learning opportunity for all\, we ask you to contact the apiary manager at apiarymanager@wcbka.org.uk in advance so that groups of similar levels of experience can be formed. \nKeep an eye on your emails at times of questionable weather as this is how cancellation will be communicated. \nFor location details please email the apiary manager.
URL:https://wcbka.org.uk/event/wcbka-apiary-14/
LOCATION:WCBKA Training Apiary
ORGANIZER;CN="Apiary Manager":MAILTO:apiarymanager@wcbka.org.uk
END:VEVENT
BEGIN:VEVENT
DTSTART;TZID=Europe/London:20220815T140000
DTEND;TZID=Europe/London:20220815T160000
DTSTAMP:20260425T025814
CREATED:20220516T093612Z
LAST-MODIFIED:20220516T094437Z
UID:1153-1660572000-1660579200@wcbka.org.uk
SUMMARY:WCBKA apiary ~
DESCRIPTION:Weekly meeting at the WCBKA training apiary near Marazion. All members whatever their level of experience are welcome\, as this is a good opportunity to learn from experienced beekeepers and for us all to learn from each other\, work with different colonies and meet fellow members. \nIn order to maximise the learning opportunity for all\, we ask you to contact the apiary manager at apiarymanager@wcbka.org.uk in advance so that groups of similar levels of experience can be formed. \nKeep an eye on your emails at times of questionable weather as this is how cancellation will be communicated. \nFor location details please email the apiary manager.
URL:https://wcbka.org.uk/event/wcbka-apiary-13/
LOCATION:WCBKA Training Apiary
ORGANIZER;CN="Apiary Manager":MAILTO:apiarymanager@wcbka.org.uk
END:VEVENT
BEGIN:VEVENT
DTSTART;TZID=Europe/London:20220808T140000
DTEND;TZID=Europe/London:20220808T160000
DTSTAMP:20260425T025814
CREATED:20220516T093521Z
LAST-MODIFIED:20220516T094444Z
UID:1151-1659967200-1659974400@wcbka.org.uk
SUMMARY:WCBKA apiary ~
DESCRIPTION:Weekly meeting at the WCBKA training apiary near Marazion. All members whatever their level of experience are welcome\, as this is a good opportunity to learn from experienced beekeepers and for us all to learn from each other\, work with different colonies and meet fellow members. \nIn order to maximise the learning opportunity for all\, we ask you to contact the apiary manager at apiarymanager@wcbka.org.uk in advance so that groups of similar levels of experience can be formed. \nKeep an eye on your emails at times of questionable weather as this is how cancellation will be communicated. \nFor location details please email the apiary manager.
URL:https://wcbka.org.uk/event/wcbka-apiary-12/
LOCATION:WCBKA Training Apiary
ORGANIZER;CN="Apiary Manager":MAILTO:apiarymanager@wcbka.org.uk
END:VEVENT
BEGIN:VEVENT
DTSTART;TZID=Europe/London:20220801T140000
DTEND;TZID=Europe/London:20220801T160000
DTSTAMP:20260425T025814
CREATED:20220516T093415Z
LAST-MODIFIED:20220516T094456Z
UID:1149-1659362400-1659369600@wcbka.org.uk
SUMMARY:WCBKA apiary ~
DESCRIPTION:Weekly meeting at the WCBKA training apiary near Marazion. All members whatever their level of experience are welcome\, as this is a good opportunity to learn from experienced beekeepers and for us all to learn from each other\, work with different colonies and meet fellow members. \nIn order to maximise the learning opportunity for all\, we ask you to contact the apiary manager at apiarymanager@wcbka.org.uk in advance so that groups of similar levels of experience can be formed. \nKeep an eye on your emails at times of questionable weather as this is how cancellation will be communicated. \nFor location details please email the apiary manager.
URL:https://wcbka.org.uk/event/wcbka-apiary-11/
LOCATION:WCBKA Training Apiary
ORGANIZER;CN="Apiary Manager":MAILTO:apiarymanager@wcbka.org.uk
END:VEVENT
BEGIN:VEVENT
DTSTART;TZID=Europe/London:20220725T140000
DTEND;TZID=Europe/London:20220725T160000
DTSTAMP:20260425T025814
CREATED:20220516T093208Z
LAST-MODIFIED:20220516T094515Z
UID:1147-1658757600-1658764800@wcbka.org.uk
SUMMARY:WCBKA apiary ~
DESCRIPTION:Weekly meeting at the WCBKA training apiary near Marazion. All members whatever their level of experience are welcome\, as this is a good opportunity to learn from experienced beekeepers and for us all to learn from each other\, work with different colonies and meet fellow members. \nIn order to maximise the learning opportunity for all\, we ask you to contact the apiary manager at apiarymanager@wcbka.org.uk in advance so that groups of similar levels of experience can be formed. \nKeep an eye on your emails at times of questionable weather as this is how cancellation will be communicated. \nFor location details please email the apiary manager.
URL:https://wcbka.org.uk/event/wcbka-apiary-10/
LOCATION:WCBKA Training Apiary
ORGANIZER;CN="Apiary Manager":MAILTO:apiarymanager@wcbka.org.uk
END:VEVENT
BEGIN:VEVENT
DTSTART;TZID=Europe/London:20220718T140000
DTEND;TZID=Europe/London:20220718T160000
DTSTAMP:20260425T025814
CREATED:20220516T093100Z
LAST-MODIFIED:20220516T094522Z
UID:1145-1658152800-1658160000@wcbka.org.uk
SUMMARY:WCBKA apiary ~
DESCRIPTION:Weekly meeting at the WCBKA training apiary near Marazion. All members whatever their level of experience are welcome\, as this is a good opportunity to learn from experienced beekeepers and for us all to learn from each other\, work with different colonies and meet fellow members. \nIn order to maximise the learning opportunity for all\, we ask you to contact the apiary manager at apiarymanager@wcbka.org.uk in advance so that groups of similar levels of experience can be formed. \nKeep an eye on your emails at times of questionable weather as this is how cancellation will be communicated. \nFor location details please email the apiary manager.
URL:https://wcbka.org.uk/event/wcbka-apiary-9/
LOCATION:WCBKA Training Apiary
ORGANIZER;CN="Apiary Manager":MAILTO:apiarymanager@wcbka.org.uk
END:VEVENT
BEGIN:VEVENT
DTSTART;TZID=Europe/London:20220711T140000
DTEND;TZID=Europe/London:20220711T160000
DTSTAMP:20260425T025814
CREATED:20220516T093000Z
LAST-MODIFIED:20220516T094529Z
UID:1143-1657548000-1657555200@wcbka.org.uk
SUMMARY:WCBKA apiary ~
DESCRIPTION:Weekly meeting at the WCBKA training apiary near Marazion. All members whatever their level of experience are welcome\, as this is a good opportunity to learn from experienced beekeepers and for us all to learn from each other\, work with different colonies and meet fellow members. \nIn order to maximise the learning opportunity for all\, we ask you to contact the apiary manager at apiarymanager@wcbka.org.uk in advance so that groups of similar levels of experience can be formed. \nKeep an eye on your emails at times of questionable weather as this is how cancellation will be communicated. \nFor location details please email the apiary manager.
URL:https://wcbka.org.uk/event/wcbka-apiary-8/
LOCATION:WCBKA Training Apiary
ORGANIZER;CN="Apiary Manager":MAILTO:apiarymanager@wcbka.org.uk
END:VEVENT
BEGIN:VEVENT
DTSTART;TZID=Europe/London:20220704T140000
DTEND;TZID=Europe/London:20220704T160000
DTSTAMP:20260425T025814
CREATED:20220516T092902Z
LAST-MODIFIED:20220516T094535Z
UID:1141-1656943200-1656950400@wcbka.org.uk
SUMMARY:WCBKA apiary ~
DESCRIPTION:Weekly meeting at the WCBKA training apiary near Marazion. All members whatever their level of experience are welcome\, as this is a good opportunity to learn from experienced beekeepers and for us all to learn from each other\, work with different colonies and meet fellow members. \nIn order to maximise the learning opportunity for all\, we ask you to contact the apiary manager at apiarymanager@wcbka.org.uk in advance so that groups of similar levels of experience can be formed. \nKeep an eye on your emails at times of questionable weather as this is how cancellation will be communicated. \nFor location details please email the apiary manager.
URL:https://wcbka.org.uk/event/wcbka-apiary-7/
LOCATION:WCBKA Training Apiary
ORGANIZER;CN="Apiary Manager":MAILTO:apiarymanager@wcbka.org.uk
END:VEVENT
BEGIN:VEVENT
DTSTART;TZID=Europe/London:20220627T140000
DTEND;TZID=Europe/London:20220627T160000
DTSTAMP:20260425T025814
CREATED:20220516T092802Z
LAST-MODIFIED:20220516T094542Z
UID:1139-1656338400-1656345600@wcbka.org.uk
SUMMARY:WCBKA apiary ~
DESCRIPTION:Weekly meeting at the WCBKA training apiary near Marazion. All members whatever their level of experience are welcome\, as this is a good opportunity to learn from experienced beekeepers and for us all to learn from each other\, work with different colonies and meet fellow members. \nIn order to maximise the learning opportunity for all\, we ask you to contact the apiary manager at apiarymanager@wcbka.org.uk in advance so that groups of similar levels of experience can be formed. \nKeep an eye on your emails at times of questionable weather as this is how cancellation will be communicated. \nFor location details please email the apiary manager.
URL:https://wcbka.org.uk/event/wcbka-apiary-6/
LOCATION:WCBKA Training Apiary
ORGANIZER;CN="Apiary Manager":MAILTO:apiarymanager@wcbka.org.uk
END:VEVENT
BEGIN:VEVENT
DTSTART;TZID=Europe/London:20220620T140000
DTEND;TZID=Europe/London:20220620T160000
DTSTAMP:20260425T025814
CREATED:20220516T092658Z
LAST-MODIFIED:20220516T094551Z
UID:1137-1655733600-1655740800@wcbka.org.uk
SUMMARY:WCBKA apiary ~
DESCRIPTION:Weekly meeting at the WCBKA training apiary near Marazion. All members whatever their level of experience are welcome\, as this is a good opportunity to learn from experienced beekeepers and for us all to learn from each other\, work with different colonies and meet fellow members. \nIn order to maximise the learning opportunity for all\, we ask you to contact the apiary manager at apiarymanager@wcbka.org.uk in advance so that groups of similar levels of experience can be formed. \nKeep an eye on your emails at times of questionable weather as this is how cancellation will be communicated. \nFor location details please email the apiary manager.
URL:https://wcbka.org.uk/event/wcbka-apiary-5/
LOCATION:WCBKA Training Apiary
ORGANIZER;CN="Apiary Manager":MAILTO:apiarymanager@wcbka.org.uk
END:VEVENT
BEGIN:VEVENT
DTSTART;TZID=Europe/London:20220613T140000
DTEND;TZID=Europe/London:20220613T160000
DTSTAMP:20260425T025814
CREATED:20220516T092607Z
LAST-MODIFIED:20220516T094558Z
UID:1135-1655128800-1655136000@wcbka.org.uk
SUMMARY:WCBKA apiary ~
DESCRIPTION:Weekly meeting at the WCBKA training apiary near Marazion. All members whatever their level of experience are welcome\, as this is a good opportunity to learn from experienced beekeepers and for us all to learn from each other\, work with different colonies and meet fellow members. \nIn order to maximise the learning opportunity for all\, we ask you to contact the apiary manager at apiarymanager@wcbka.org.uk in advance so that groups of similar levels of experience can be formed. \nKeep an eye on your emails at times of questionable weather as this is how cancellation will be communicated. \nFor location details please email the apiary manager.
URL:https://wcbka.org.uk/event/wcbka-apiary-4/
LOCATION:WCBKA Training Apiary
ORGANIZER;CN="Apiary Manager":MAILTO:apiarymanager@wcbka.org.uk
END:VEVENT
BEGIN:VEVENT
DTSTART;VALUE=DATE:20220609
DTEND;VALUE=DATE:20220612
DTSTAMP:20260425T025814
CREATED:20220512T112835Z
LAST-MODIFIED:20220512T112835Z
UID:1120-1654732800-1654991999@wcbka.org.uk
SUMMARY:Royal Cornwall Show 2022
DESCRIPTION:This year we are in the Flower Marquee with an exciting new theme\, do call in and say ‘hello’.
URL:https://wcbka.org.uk/event/royal-cornwall-show-2022/
LOCATION:Royal Cornwall Showground\, Whitecross\, Wadebridge\, Cornwall\, PL27 7JE\, United Kingdom
END:VEVENT
BEGIN:VEVENT
DTSTART;TZID=Europe/London:20220606T140000
DTEND;TZID=Europe/London:20220606T160000
DTSTAMP:20260425T025814
CREATED:20220516T092509Z
LAST-MODIFIED:20220516T094607Z
UID:1133-1654524000-1654531200@wcbka.org.uk
SUMMARY:WCBKA apiary ~
DESCRIPTION:Weekly meeting at the WCBKA training apiary near Marazion. All members whatever their level of experience are welcome\, as this is a good opportunity to learn from experienced beekeepers and for us all to learn from each other\, work with different colonies and meet fellow members. \nIn order to maximise the learning opportunity for all\, we ask you to contact the apiary manager at apiarymanager@wcbka.org.uk in advance so that groups of similar levels of experience can be formed. \nKeep an eye on your emails at times of questionable weather as this is how cancellation will be communicated. \nFor location details please email the apiary manager.
URL:https://wcbka.org.uk/event/wcbka-apiary-3/
LOCATION:WCBKA Training Apiary
ORGANIZER;CN="Apiary Manager":MAILTO:apiarymanager@wcbka.org.uk
END:VEVENT
BEGIN:VEVENT
DTSTART;TZID=Europe/London:20220530T140000
DTEND;TZID=Europe/London:20220530T160000
DTSTAMP:20260425T025814
CREATED:20220516T092323Z
LAST-MODIFIED:20220516T094613Z
UID:1131-1653919200-1653926400@wcbka.org.uk
SUMMARY:WCBKA apiary ~
DESCRIPTION:Weekly meeting at the WCBKA training apiary near Marazion. All members whatever their level of experience are welcome\, as this is a good opportunity to learn from experienced beekeepers and for us all to learn from each other\, work with different colonies and meet fellow members. \nIn order to maximise the learning opportunity for all\, we ask you to contact the apiary manager at apiarymanager@wcbka.org.uk in advance so that groups of similar levels of experience can be formed. \nKeep an eye on your emails at times of questionable weather as this is how cancellation will be communicated. \nFor location details please email the apiary manager.
URL:https://wcbka.org.uk/event/wcbka-apiary-2/
LOCATION:WCBKA Training Apiary
ORGANIZER;CN="Apiary Manager":MAILTO:apiarymanager@wcbka.org.uk
END:VEVENT
BEGIN:VEVENT
DTSTART;TZID=Europe/London:20220523T140000
DTEND;TZID=Europe/London:20220523T160000
DTSTAMP:20260425T025814
CREATED:20220516T092201Z
LAST-MODIFIED:20220516T094624Z
UID:1128-1653314400-1653321600@wcbka.org.uk
SUMMARY:WCBKA apiary ~
DESCRIPTION:Weekly meeting at the WCBKA training apiary near Marazion. All members whatever their level of experience are welcome\, as this is a good opportunity to learn from experienced beekeepers and for us all to learn from each other\, work with different colonies and meet fellow members. \nIn order to maximise the learning opportunity for all\, we ask you to contact the apiary manager at apiarymanager@wcbka.org.uk in advance so that groups of similar levels of experience can be formed. \nKeep an eye on your emails at times of questionable weather as this is how cancellation will be communicated. \nFor location details please email the apiary manager.
URL:https://wcbka.org.uk/event/wcbka-training-apiary/
LOCATION:WCBKA Training Apiary
ORGANIZER;CN="Apiary Manager":MAILTO:apiarymanager@wcbka.org.uk
END:VEVENT
BEGIN:VEVENT
DTSTART;TZID=Europe/London:20220516T140000
DTEND;TZID=Europe/London:20220516T160000
DTSTAMP:20260425T025814
CREATED:20220516T092043Z
LAST-MODIFIED:20220516T094634Z
UID:1125-1652709600-1652716800@wcbka.org.uk
SUMMARY:WCBKA apiary ~
DESCRIPTION:Weekly meeting at the WCBKA training apiary near Marazion. All members whatever their level of experience are welcome\, as this is a good opportunity to learn from experienced beekeepers and for us all to learn from each other\, work with different colonies and meet fellow members. \nIn order to maximise the learning opportunity for all\, we ask you to contact the apiary manager at apiarymanager@wcbka.org.uk in advance so that groups of similar levels of experience can be formed. \nKeep an eye on your emails at times of questionable weather as this is how cancellation will be communicated. \nFor location details please email the apiary manager.
URL:https://wcbka.org.uk/event/wcbka-apiary/
LOCATION:WCBKA Training Apiary
ORGANIZER;CN="Apiary Manager":MAILTO:apiarymanager@wcbka.org.uk
END:VEVENT
BEGIN:VEVENT
DTSTART;TZID=Europe/London:20220307T190000
DTEND;TZID=Europe/London:20220307T210000
DTSTAMP:20260425T025814
CREATED:20211207T134007Z
LAST-MODIFIED:20220307T151921Z
UID:1042-1646679600-1646686800@wcbka.org.uk
SUMMARY:The Garden\, Forage and Bees - talk by Pam Hunter
DESCRIPTION:Pam is a Master Beekeepers and has been keeping bees for over 25years. She is also a members of BIBBA and the Centrat Association of Beekeepers.\nPam’s background is in biological sciences. She was employed in microbiological research in the pharmaceutical industry for 30 years before becoming a freelance consultant and writer.\nUntil recently Pam was Chair of the BBKA Examinations Board.\nPam is particularly interested in scientific aspects of bees and their interaction with the environment and plants. Also the neglected area of historical aspects of bees\, the environment and beekeeping. She gives talks on these topics around the country.
URL:https://wcbka.org.uk/event/the-garden-forage-and-bees-talk-by-pam-hunter/
LOCATION:Zoom Meeting\, United Kingdom
END:VEVENT
BEGIN:VEVENT
DTSTART;TZID=Europe/London:20220207T193000
DTEND;TZID=Europe/London:20220207T210000
DTSTAMP:20260425T025814
CREATED:20211207T134209Z
LAST-MODIFIED:20211207T134209Z
UID:1045-1644262200-1644267600@wcbka.org.uk
SUMMARY:Zoom talk by Roger Dewhurst
DESCRIPTION:
URL:https://wcbka.org.uk/event/zoom-talk-by-roger-dewhurst/
LOCATION:Zoom Meeting\, United Kingdom
END:VEVENT
BEGIN:VEVENT
DTSTART;TZID=Europe/London:20220205T120000
DTEND;TZID=Europe/London:20220205T160000
DTSTAMP:20260425T025814
CREATED:20220112T181057Z
LAST-MODIFIED:20220112T181057Z
UID:1052-1644062400-1644076800@wcbka.org.uk
SUMMARY:St. Piran’s Honey Festival
DESCRIPTION:Open to All  – Free Entry – Join us in celebrating the wonder of bees! \nRaffle\, Display of all things bee related\, Home made cakes\, Local Honey for Sale. \nFind out about: Honey Fraud! What beekeepers do! The threat of the Asian Hornet! \n  \nSubject to covid regs.\nA large ventilated hall but masks must be worn unless eating cake!
URL:https://wcbka.org.uk/event/st-pirans-honey-festival/
LOCATION:Village Hall\, Goldsithney\, Goldsithney\, Penzance\, Cornwall\, TR20 9LF\, United Kingdom
ORGANIZER;CN="WCBKA Honey Show":MAILTO:honeyfestival@quillet.org.uk
END:VEVENT
BEGIN:VEVENT
DTSTART;TZID=Europe/London:20220103T193000
DTEND;TZID=Europe/London:20220103T210000
DTSTAMP:20260425T025814
CREATED:20210928T113731Z
LAST-MODIFIED:20211207T133819Z
UID:1007-1641238200-1641243600@wcbka.org.uk
SUMMARY:No Show Honey Show
DESCRIPTION:No Show Honey Show – By popular request – Debby and Paul hosting \nMembers of WCBKA will get a Zoom invitation and link a few days prior to each meeting. Please email our Secretary if you are a non member interested in attending.
URL:https://wcbka.org.uk/event/no-show-honey-show/
LOCATION:Zoom Meeting\, United Kingdom
END:VEVENT
BEGIN:VEVENT
DTSTART;TZID=Europe/London:20211127T095000
DTEND;TZID=Europe/London:20211127T163000
DTSTAMP:20260425T025814
CREATED:20211002T103203Z
LAST-MODIFIED:20211002T103435Z
UID:1022-1638006600-1638030600@wcbka.org.uk
SUMMARY:A Bit of a Do - online!
DESCRIPTION:All the features of a physical convention but without the need to travel. \n£5 entry – numbers limited to 300. \nClick here for full details. \nClick here for tickets. \n  \n 
URL:https://wcbka.org.uk/event/a-bit-of-a-do-online/
LOCATION:Cornwall
END:VEVENT
BEGIN:VEVENT
DTSTART;TZID=Europe/London:20211108T193000
DTEND;TZID=Europe/London:20211108T210000
DTSTAMP:20260425T025814
CREATED:20210928T113600Z
LAST-MODIFIED:20211013T132046Z
UID:1005-1636399800-1636405200@wcbka.org.uk
SUMMARY:AGM and talk by John De Carteret
DESCRIPTION:AGM followed by a talk from John De Carteret : Asian Hornets – the Jersey Experience \nMembers of WCBKA will get a Zoom invitation and link a few days prior to each meeting. Please email our Secretary (secretary@westcornwallbka.org.uk) if you are a non member interested in attending.
URL:https://wcbka.org.uk/event/agm-and-talk-by-john-de-carteret/
LOCATION:Zoom Meeting\, United Kingdom
END:VEVENT
END:VCALENDAR