BEGIN:VCALENDAR
VERSION:2.0
PRODID:-//West Cornwall Beekeepers’ Association - ECPv6.15.20//NONSGML v1.0//EN
CALSCALE:GREGORIAN
METHOD:PUBLISH
X-ORIGINAL-URL:https://wcbka.org.uk
X-WR-CALDESC:Events for West Cornwall Beekeepers’ Association
REFRESH-INTERVAL;VALUE=DURATION:PT1H
X-Robots-Tag:noindex
X-PUBLISHED-TTL:PT1H
BEGIN:VTIMEZONE
TZID:Europe/London
BEGIN:DAYLIGHT
TZOFFSETFROM:+0000
TZOFFSETTO:+0100
TZNAME:BST
DTSTART:20250330T010000
END:DAYLIGHT
BEGIN:STANDARD
TZOFFSETFROM:+0100
TZOFFSETTO:+0000
TZNAME:GMT
DTSTART:20251026T010000
END:STANDARD
BEGIN:DAYLIGHT
TZOFFSETFROM:+0000
TZOFFSETTO:+0100
TZNAME:BST
DTSTART:20260329T010000
END:DAYLIGHT
BEGIN:STANDARD
TZOFFSETFROM:+0100
TZOFFSETTO:+0000
TZNAME:GMT
DTSTART:20261025T010000
END:STANDARD
BEGIN:DAYLIGHT
TZOFFSETFROM:+0000
TZOFFSETTO:+0100
TZNAME:BST
DTSTART:20270328T010000
END:DAYLIGHT
BEGIN:STANDARD
TZOFFSETFROM:+0100
TZOFFSETTO:+0000
TZNAME:GMT
DTSTART:20271031T010000
END:STANDARD
END:VTIMEZONE
BEGIN:VEVENT
DTSTART;TZID=Europe/London:20260312T183000
DTEND;TZID=Europe/London:20260312T200000
DTSTAMP:20260423T181152
CREATED:20250927T124711Z
LAST-MODIFIED:20250927T124711Z
UID:1764-1773340200-1773345600@wcbka.org.uk
SUMMARY:Better Beekeeping - Swarm Control
DESCRIPTION:
URL:https://wcbka.org.uk/event/better-beekeeping-swarm-control/
LOCATION:St Erth Church Hall\, The Green Lane\, St Erth\, TR27 6HS
CATEGORIES:Better Beekeeping
END:VEVENT
BEGIN:VEVENT
DTSTART;TZID=Europe/London:20260326T183000
DTEND;TZID=Europe/London:20260326T200000
DTSTAMP:20260423T181152
CREATED:20250919T155847Z
LAST-MODIFIED:20260320T104158Z
UID:1747-1774549800-1774555200@wcbka.org.uk
SUMMARY:Winter Meeting - How to keep calm and carry on when things don't go as planned (with your bees)!
DESCRIPTION:Thursday 26th March\nMartin Hann and Clare Densley from Buckfast Bees\n\nHow to keep calm and carry on when things don’t go as planned (with your bees)!
URL:https://wcbka.org.uk/event/how-to-keep-calm-and-carry-on-when-things-dont-go-as-planned-with-your-bees/
LOCATION:St Erth Church Hall\, The Green Lane\, St Erth\, TR27 6HS
CATEGORIES:Winter meeting
ATTACH;FMTTYPE=image/jpeg:https://wcbka.org.uk/wcbka/wp-content/uploads/2026/03/MartinHann-ClareDensley.jpg
END:VEVENT
BEGIN:VEVENT
DTSTART;TZID=Europe/London:20260409T183000
DTEND;TZID=Europe/London:20260409T200000
DTSTAMP:20260423T181152
CREATED:20250927T124838Z
LAST-MODIFIED:20250927T124838Z
UID:1766-1775759400-1775764800@wcbka.org.uk
SUMMARY:Better Beekeeping - Queen Rearing
DESCRIPTION:
URL:https://wcbka.org.uk/event/better-beekeeping-queen-rearing/
LOCATION:St Erth Church Hall\, The Green Lane\, St Erth\, TR27 6HS
CATEGORIES:Better Beekeeping
END:VEVENT
BEGIN:VEVENT
DTSTART;TZID=Europe/London:20261017T093000
DTEND;TZID=Europe/London:20261017T170000
DTSTAMP:20260423T181152
CREATED:20251117T150335Z
LAST-MODIFIED:20260320T104433Z
UID:1779-1792229400-1792256400@wcbka.org.uk
SUMMARY:2026 Cornwall & West Cornwall Beekeepers' Annual Convention (BOAD)
DESCRIPTION:SAVE THE DATE!\n2026 Cornwall and West Cornwall Beekeepers’ Annual Convention (BOAD) will be held on Saturday 17th October 2026 at Truro School – put the date in your diaries now!
URL:https://wcbka.org.uk/event/boad-a-bit-of-a-do-2026/
CATEGORIES:Other events
END:VEVENT
END:VCALENDAR