BEGIN:VCALENDAR
VERSION:2.0
PRODID:-//West Cornwall Beekeepers’ Association - ECPv6.15.20//NONSGML v1.0//EN
CALSCALE:GREGORIAN
METHOD:PUBLISH
X-WR-CALNAME:West Cornwall Beekeepers’ Association
X-ORIGINAL-URL:https://wcbka.org.uk
X-WR-CALDESC:Events for West Cornwall Beekeepers’ Association
REFRESH-INTERVAL;VALUE=DURATION:PT1H
X-Robots-Tag:noindex
X-PUBLISHED-TTL:PT1H
BEGIN:VTIMEZONE
TZID:Europe/London
BEGIN:DAYLIGHT
TZOFFSETFROM:+0000
TZOFFSETTO:+0100
TZNAME:BST
DTSTART:20210328T010000
END:DAYLIGHT
BEGIN:STANDARD
TZOFFSETFROM:+0100
TZOFFSETTO:+0000
TZNAME:GMT
DTSTART:20211031T010000
END:STANDARD
BEGIN:DAYLIGHT
TZOFFSETFROM:+0000
TZOFFSETTO:+0100
TZNAME:BST
DTSTART:20220327T010000
END:DAYLIGHT
BEGIN:STANDARD
TZOFFSETFROM:+0100
TZOFFSETTO:+0000
TZNAME:GMT
DTSTART:20221030T010000
END:STANDARD
BEGIN:DAYLIGHT
TZOFFSETFROM:+0000
TZOFFSETTO:+0100
TZNAME:BST
DTSTART:20230326T010000
END:DAYLIGHT
BEGIN:STANDARD
TZOFFSETFROM:+0100
TZOFFSETTO:+0000
TZNAME:GMT
DTSTART:20231029T010000
END:STANDARD
BEGIN:DAYLIGHT
TZOFFSETFROM:+0000
TZOFFSETTO:+0100
TZNAME:BST
DTSTART:20240331T010000
END:DAYLIGHT
BEGIN:STANDARD
TZOFFSETFROM:+0100
TZOFFSETTO:+0000
TZNAME:GMT
DTSTART:20241027T010000
END:STANDARD
BEGIN:DAYLIGHT
TZOFFSETFROM:+0000
TZOFFSETTO:+0100
TZNAME:BST
DTSTART:20250330T010000
END:DAYLIGHT
BEGIN:STANDARD
TZOFFSETFROM:+0100
TZOFFSETTO:+0000
TZNAME:GMT
DTSTART:20251026T010000
END:STANDARD
END:VTIMEZONE
BEGIN:VEVENT
DTSTART;TZID=Europe/London:20241202T130000
DTEND;TZID=Europe/London:20241202T150000
DTSTAMP:20260420T151132
CREATED:20241118T154919Z
LAST-MODIFIED:20241118T154919Z
UID:1546-1733144400-1733151600@wcbka.org.uk
SUMMARY:Winter Meeting Christmas Lunch ~
DESCRIPTION:
URL:https://wcbka.org.uk/event/winter-meeting-christmas-lunch/
LOCATION:The Cutty Sark\, The Square\,\, Marazion\, Cornwall\, TR17 0AP\, United Kingdom
CATEGORIES:Winter meeting
END:VEVENT
BEGIN:VEVENT
DTSTART;TZID=Europe/London:20240311T193000
DTEND;TZID=Europe/London:20240311T213000
DTSTAMP:20260420T151133
CREATED:20231021T171947Z
LAST-MODIFIED:20240102T133804Z
UID:1437-1710185400-1710192600@wcbka.org.uk
SUMMARY:Winter Meeting - Asian Hornet update from Dr Pete Kennedy
DESCRIPTION:Winter Meeting  – As our beekeeping season starts again\, Dr Pete Kennedy will give us a timely update on the Asian Hornet. An important date to put in your diaries\, what we shall need to do and when\, to prepare for a vigilant Spring.
URL:https://wcbka.org.uk/event/winter-meeting-2/
LOCATION:Marazion Community Centre\, Gwallon Lane\, Marazion\, Cornwall\, TR17 0HW\, United Kingdom
CATEGORIES:Winter meeting
END:VEVENT
BEGIN:VEVENT
DTSTART;TZID=Europe/London:20240212T193000
DTEND;TZID=Europe/London:20240212T213000
DTSTAMP:20260420T151133
CREATED:20231021T165832Z
LAST-MODIFIED:20240102T133627Z
UID:1425-1707766200-1707773400@wcbka.org.uk
SUMMARY:Winter Meeting - A Hands Off Approach to Beekeeping
DESCRIPTION:A Hands Off Approach to Beekeeping with Simon Kellam from Justbee Ecohives – should be thought-provoking\, perhaps even slightly controversial…..
URL:https://wcbka.org.uk/event/winter-meeting-a-hands-off-approach-to-beekeeping/
LOCATION:Marazion Community Centre\, Gwallon Lane\, Marazion\, Cornwall\, TR17 0HW\, United Kingdom
CATEGORIES:Winter meeting
END:VEVENT
BEGIN:VEVENT
DTSTART;TZID=Europe/London:20240108T193000
DTEND;TZID=Europe/London:20240108T213000
DTSTAMP:20260420T151133
CREATED:20231021T165626Z
LAST-MODIFIED:20231021T165626Z
UID:1423-1704742200-1704749400@wcbka.org.uk
SUMMARY:Winter Meeting - Removing Swarms from Interesting Places!
DESCRIPTION:Removing Swarms from Interesting Places! with Mollie Earle
URL:https://wcbka.org.uk/event/winter-meeting-removing-swarms-from-interesting-places/
LOCATION:Marazion Community Centre\, Gwallon Lane\, Marazion\, Cornwall\, TR17 0HW\, United Kingdom
CATEGORIES:Winter meeting
END:VEVENT
BEGIN:VEVENT
DTSTART;TZID=Europe/London:20231204T193000
DTEND;TZID=Europe/London:20231204T213000
DTSTAMP:20260420T151133
CREATED:20231021T170412Z
LAST-MODIFIED:20231021T171015Z
UID:1427-1701718200-1701725400@wcbka.org.uk
SUMMARY:WCBKA Christmas Party
DESCRIPTION:Christmas Party
URL:https://wcbka.org.uk/event/wcbka-christmas-party-2024/
LOCATION:Marazion Community Centre\, Gwallon Lane\, Marazion\, Cornwall\, TR17 0HW\, United Kingdom
CATEGORIES:Winter meeting
END:VEVENT
BEGIN:VEVENT
DTSTART;TZID=Europe/London:20231106T193000
DTEND;TZID=Europe/London:20231106T213000
DTSTAMP:20260420T151133
CREATED:20231021T165137Z
LAST-MODIFIED:20231021T165423Z
UID:1421-1699299000-1699306200@wcbka.org.uk
SUMMARY:AGM and 3 Members’ “Shorts”
DESCRIPTION:AGM and 3 Members’ “Shorts” from Bridget\, Lindsay and Kate about different aspects in their beekeeping.
URL:https://wcbka.org.uk/event/agm-and-3-members-shorts/
LOCATION:Marazion Community Centre\, Gwallon Lane\, Marazion\, Cornwall\, TR17 0HW\, United Kingdom
CATEGORIES:Winter meeting
END:VEVENT
BEGIN:VEVENT
DTSTART;TZID=Europe/London:20230306T193000
DTEND;TZID=Europe/London:20230306T213000
DTSTAMP:20260420T151133
CREATED:20221005T104052Z
LAST-MODIFIED:20221005T104052Z
UID:1258-1678131000-1678138200@wcbka.org.uk
SUMMARY:WCBKA Winter Meeting
DESCRIPTION:WCBKA Winter Meeting
URL:https://wcbka.org.uk/event/wcbka-winter-meeting-4/
LOCATION:Marazion Community Centre\, Gwallon Lane\, Marazion\, Cornwall\, TR17 0HW\, United Kingdom
CATEGORIES:Winter meeting
END:VEVENT
BEGIN:VEVENT
DTSTART;TZID=Europe/London:20230206T193000
DTEND;TZID=Europe/London:20230206T213000
DTSTAMP:20260420T151133
CREATED:20221005T103941Z
LAST-MODIFIED:20221005T103941Z
UID:1256-1675711800-1675719000@wcbka.org.uk
SUMMARY:WCBKA Winter Meeting
DESCRIPTION:WCBKA Winter Meeting
URL:https://wcbka.org.uk/event/wcbka-winter-meeting-3/
LOCATION:Marazion Community Centre\, Gwallon Lane\, Marazion\, Cornwall\, TR17 0HW\, United Kingdom
CATEGORIES:Winter meeting
END:VEVENT
BEGIN:VEVENT
DTSTART;TZID=Europe/London:20230109T193000
DTEND;TZID=Europe/London:20230109T213000
DTSTAMP:20260420T151133
CREATED:20221005T103832Z
LAST-MODIFIED:20221024T111522Z
UID:1254-1673292600-1673299800@wcbka.org.uk
SUMMARY:WCBKA Winter Meeting
DESCRIPTION:WCBKA Winter Meeting – Aaron Bhambra will be giving a talk via Zoom titled ‘Bees of the British Isles; Diversity and Foraging Behaviour’ about some of the lesser known species\,how they collect pollen and how their family can be identified by observing this behaviour.
URL:https://wcbka.org.uk/event/wcbka-winter-meeting-2/
LOCATION:Marazion Community Centre\, Gwallon Lane\, Marazion\, Cornwall\, TR17 0HW\, United Kingdom
CATEGORIES:Winter meeting
ATTACH;FMTTYPE=image/jpeg:https://wcbka.org.uk/wcbka/wp-content/uploads/2022/10/Aaron-Bhambra.jpg
END:VEVENT
BEGIN:VEVENT
DTSTART;TZID=Europe/London:20221205T193000
DTEND;TZID=Europe/London:20221205T213000
DTSTAMP:20260420T151133
CREATED:20221005T103545Z
LAST-MODIFIED:20221005T103628Z
UID:1252-1670268600-1670275800@wcbka.org.uk
SUMMARY:WCBKA Christmas Party
DESCRIPTION:WCBKA Christmas Party
URL:https://wcbka.org.uk/event/wcbka-christmas-party/
LOCATION:Marazion Community Centre\, Gwallon Lane\, Marazion\, Cornwall\, TR17 0HW\, United Kingdom
CATEGORIES:Winter meeting
END:VEVENT
END:VCALENDAR