BEGIN:VCALENDAR
VERSION:2.0
PRODID:-//West Cornwall Beekeepers’ Association - ECPv6.15.20//NONSGML v1.0//EN
CALSCALE:GREGORIAN
METHOD:PUBLISH
X-ORIGINAL-URL:https://wcbka.org.uk
X-WR-CALDESC:Events for West Cornwall Beekeepers’ Association
REFRESH-INTERVAL;VALUE=DURATION:PT1H
X-Robots-Tag:noindex
X-PUBLISHED-TTL:PT1H
BEGIN:VTIMEZONE
TZID:Europe/London
BEGIN:DAYLIGHT
TZOFFSETFROM:+0000
TZOFFSETTO:+0100
TZNAME:BST
DTSTART:20240331T010000
END:DAYLIGHT
BEGIN:STANDARD
TZOFFSETFROM:+0100
TZOFFSETTO:+0000
TZNAME:GMT
DTSTART:20241027T010000
END:STANDARD
BEGIN:DAYLIGHT
TZOFFSETFROM:+0000
TZOFFSETTO:+0100
TZNAME:BST
DTSTART:20250330T010000
END:DAYLIGHT
BEGIN:STANDARD
TZOFFSETFROM:+0100
TZOFFSETTO:+0000
TZNAME:GMT
DTSTART:20251026T010000
END:STANDARD
BEGIN:DAYLIGHT
TZOFFSETFROM:+0000
TZOFFSETTO:+0100
TZNAME:BST
DTSTART:20260329T010000
END:DAYLIGHT
BEGIN:STANDARD
TZOFFSETFROM:+0100
TZOFFSETTO:+0000
TZNAME:GMT
DTSTART:20261025T010000
END:STANDARD
END:VTIMEZONE
BEGIN:VEVENT
DTSTART;TZID=Europe/London:20251113T183000
DTEND;TZID=Europe/London:20251113T200000
DTSTAMP:20260420T200621
CREATED:20250919T155214Z
LAST-MODIFIED:20250919T160050Z
UID:1741-1763058600-1763064000@wcbka.org.uk
SUMMARY:Annual General Meeting
DESCRIPTION:Thursday 13th November 2025 6.30 for 7.00\nAGM
URL:https://wcbka.org.uk/event/annual-general-meeting/
LOCATION:St Erth Church Hall\, The Green Lane\, St Erth\, TR27 6HS
CATEGORIES:Winter meeting
END:VEVENT
END:VCALENDAR