BEGIN:VCALENDAR
VERSION:2.0
PRODID:-//West Cornwall Beekeepers’ Association - ECPv6.15.20//NONSGML v1.0//EN
CALSCALE:GREGORIAN
METHOD:PUBLISH
X-WR-CALNAME:West Cornwall Beekeepers’ Association
X-ORIGINAL-URL:https://wcbka.org.uk
X-WR-CALDESC:Events for West Cornwall Beekeepers’ Association
REFRESH-INTERVAL;VALUE=DURATION:PT1H
X-Robots-Tag:noindex
X-PUBLISHED-TTL:PT1H
BEGIN:VTIMEZONE
TZID:Europe/London
BEGIN:DAYLIGHT
TZOFFSETFROM:+0000
TZOFFSETTO:+0100
TZNAME:BST
DTSTART:20240331T010000
END:DAYLIGHT
BEGIN:STANDARD
TZOFFSETFROM:+0100
TZOFFSETTO:+0000
TZNAME:GMT
DTSTART:20241027T010000
END:STANDARD
BEGIN:DAYLIGHT
TZOFFSETFROM:+0000
TZOFFSETTO:+0100
TZNAME:BST
DTSTART:20250330T010000
END:DAYLIGHT
BEGIN:STANDARD
TZOFFSETFROM:+0100
TZOFFSETTO:+0000
TZNAME:GMT
DTSTART:20251026T010000
END:STANDARD
BEGIN:DAYLIGHT
TZOFFSETFROM:+0000
TZOFFSETTO:+0100
TZNAME:BST
DTSTART:20260329T010000
END:DAYLIGHT
BEGIN:STANDARD
TZOFFSETFROM:+0100
TZOFFSETTO:+0000
TZNAME:GMT
DTSTART:20261025T010000
END:STANDARD
END:VTIMEZONE
BEGIN:VEVENT
DTSTART;TZID=Europe/London:20251030T183000
DTEND;TZID=Europe/London:20251030T200000
DTSTAMP:20260420T214851
CREATED:20250918T100919Z
LAST-MODIFIED:20250919T160445Z
UID:1738-1761849000-1761854400@wcbka.org.uk
SUMMARY:Winter Meeting - Hunting Asian Hornets - Justin Evens and Lewis Meyer
DESCRIPTION:Thurs 30th October 2025 6.30 for 7.00\n\nWest Cornwall members Justin Evens and Lewis Meyer\, talking about their trip to Jersey hunting Asian Hornets
URL:https://wcbka.org.uk/event/hunting-asian-hornets-justin-evens-and-lewis-meyer/
LOCATION:St Erth Church Hall\, The Green Lane\, St Erth\, TR27 6HS
CATEGORIES:Winter meeting
END:VEVENT
END:VCALENDAR